BEGIN:VCALENDAR
VERSION:2.0
PRODID:-//Iowa One Call - ECPv6.15.20//NONSGML v1.0//EN
CALSCALE:GREGORIAN
METHOD:PUBLISH
X-WR-CALNAME:Iowa One Call
X-ORIGINAL-URL:https://iowaonecall.com
X-WR-CALDESC:Events for Iowa One Call
REFRESH-INTERVAL;VALUE=DURATION:PT1H
X-Robots-Tag:noindex
X-PUBLISHED-TTL:PT1H
BEGIN:VTIMEZONE
TZID:America/Chicago
BEGIN:DAYLIGHT
TZOFFSETFROM:-0600
TZOFFSETTO:-0500
TZNAME:CDT
DTSTART:20250309T080000
END:DAYLIGHT
BEGIN:STANDARD
TZOFFSETFROM:-0500
TZOFFSETTO:-0600
TZNAME:CST
DTSTART:20251102T070000
END:STANDARD
BEGIN:DAYLIGHT
TZOFFSETFROM:-0600
TZOFFSETTO:-0500
TZNAME:CDT
DTSTART:20260308T080000
END:DAYLIGHT
BEGIN:STANDARD
TZOFFSETFROM:-0500
TZOFFSETTO:-0600
TZNAME:CST
DTSTART:20261101T070000
END:STANDARD
BEGIN:DAYLIGHT
TZOFFSETFROM:-0600
TZOFFSETTO:-0500
TZNAME:CDT
DTSTART:20270314T080000
END:DAYLIGHT
BEGIN:STANDARD
TZOFFSETFROM:-0500
TZOFFSETTO:-0600
TZNAME:CST
DTSTART:20271107T070000
END:STANDARD
END:VTIMEZONE
BEGIN:VEVENT
DTSTART;TZID=America/Chicago:20260907T000000
DTEND;TZID=America/Chicago:20260907T235900
DTSTAMP:20260425T084839
CREATED:20260422T134818Z
LAST-MODIFIED:20260422T181320Z
UID:33520-1788739200-1788825540@iowaonecall.com
SUMMARY:Labor Day
DESCRIPTION:Today is a holiday! Don’t forget\, you must contact Iowa One Call at least 48-hours prior to your planned excavation – excluding Saturdays\, Sundays and legal holidays.
URL:https://iowaonecall.com/event/labor-day/
CATEGORIES:Holiday
END:VEVENT
BEGIN:VEVENT
DTSTART;TZID=America/Chicago:20260703T000000
DTEND;TZID=America/Chicago:20260703T235900
DTSTAMP:20260425T084839
CREATED:20260422T170738Z
LAST-MODIFIED:20260422T181337Z
UID:33525-1783036800-1783123140@iowaonecall.com
SUMMARY:Independence Day - Observred
DESCRIPTION:Today is a holiday! Don’t forget\, you must contact Iowa One Call at least 48-hours prior to your planned excavation – excluding Saturdays\, Sundays and legal holidays.
URL:https://iowaonecall.com/event/independence-day-observred/
CATEGORIES:Holiday
END:VEVENT
BEGIN:VEVENT
DTSTART;TZID=America/Chicago:20260525T000000
DTEND;TZID=America/Chicago:20260525T235900
DTSTAMP:20260425T084839
CREATED:20260422T134654Z
LAST-MODIFIED:20260422T181345Z
UID:33519-1779667200-1779753540@iowaonecall.com
SUMMARY:Memorial Day
DESCRIPTION:Today is a holiday! Don’t forget\, you must contact Iowa One Call at least 48-hours prior to your planned excavation – excluding Saturdays\, Sundays and legal holidays.
URL:https://iowaonecall.com/event/memorial-day/
CATEGORIES:Holiday
END:VEVENT
BEGIN:VEVENT
DTSTART;TZID=America/Chicago:20260216T000000
DTEND;TZID=America/Chicago:20260216T235900
DTSTAMP:20260425T084839
CREATED:20260422T134621Z
LAST-MODIFIED:20260422T181352Z
UID:33518-1771200000-1771286340@iowaonecall.com
SUMMARY:Washington's Birthday
DESCRIPTION:Today is a holiday! Don’t forget\, you must contact Iowa One Call at least 48-hours prior to your planned excavation – excluding Saturdays\, Sundays and legal holidays.
URL:https://iowaonecall.com/event/washingtons-birthday/
CATEGORIES:Holiday
END:VEVENT
BEGIN:VEVENT
DTSTART;TZID=America/Chicago:20260212T000000
DTEND;TZID=America/Chicago:20260212T235900
DTSTAMP:20260425T084839
CREATED:20260422T134529Z
LAST-MODIFIED:20260422T181358Z
UID:33517-1770854400-1770940740@iowaonecall.com
SUMMARY:Lincoln's Birthday
DESCRIPTION:Today is a holiday! Don’t forget\, you must contact Iowa One Call at least 48-hours prior to your planned excavation – excluding Saturdays\, Sundays and legal holidays.
URL:https://iowaonecall.com/event/lincolns-birthday/
CATEGORIES:Holiday
END:VEVENT
BEGIN:VEVENT
DTSTART;TZID=America/Chicago:20260119T000000
DTEND;TZID=America/Chicago:20260119T235900
DTSTAMP:20260425T084839
CREATED:20260422T134451Z
LAST-MODIFIED:20260422T181404Z
UID:33516-1768780800-1768867140@iowaonecall.com
SUMMARY:Dr. Martin Luther King Jr. Day
DESCRIPTION:Today is a holiday! Don’t forget\, you must contact Iowa One Call at least 48-hours prior to your planned excavation – excluding Saturdays\, Sundays and legal holidays.
URL:https://iowaonecall.com/event/dr-martin-luther-king-jr-day/
CATEGORIES:Holiday
END:VEVENT
BEGIN:VEVENT
DTSTART;TZID=America/Chicago:20260101T000000
DTEND;TZID=America/Chicago:20260101T235900
DTSTAMP:20260425T084839
CREATED:20260422T134332Z
LAST-MODIFIED:20260422T181410Z
UID:33515-1767225600-1767311940@iowaonecall.com
SUMMARY:New Year's Day
DESCRIPTION:Today is a holiday! Don’t forget\, you must contact Iowa One Call at least 48-hours prior to your planned excavation – excluding Saturdays\, Sundays and legal holidays.
URL:https://iowaonecall.com/event/new-years-day/
CATEGORIES:Holiday
END:VEVENT
END:VCALENDAR